BEGIN:VCALENDAR
PRODID:-//SLOW//SLOWForthcomingEvents//EN
VERSION:2.0
CALSCALE:GREGORIAN
METHOD:PUBLISH
X-WR-CALNAME:SLOW Events
X-WR-TIMEZONE:Europe/London
X-WR-CALDESC:Forthcoming SLOW club events
BEGIN:VEVENT
DTSTART;TZID=Europe/London;VALUE=DATE:20260426
DTEND;TZID=Europe/London;VALUE=DATE:20260426
DTSTAMP;TZID=Europe/London:20260310T232849Z
UID:20260426Wimbledon Training
CLASS:PUBLIC
CREATED:20260310T232849Z
DESCRIPTION:SLOW Wimbledon Training
LAST-MODIFIED:20260310T232849Z
LOCATION:Wimbledon windmill car park
SEQUENCE:0
STATUS:CONFIRMED
SUMMARY:SLOW Wimbledon Training
TRANSP:TRANSPARENT
URL:https://slow.org.uk/coaching/wimbledon-training-season-2025/
END:VEVENT
BEGIN:VEVENT
DTSTART;TZID=Europe/London;VALUE=DATE:20260504
DTEND;TZID=Europe/London;VALUE=DATE:20260504
DTSTAMP;TZID=Europe/London:20260213T215353Z
UID:20260504OK Nuts
CLASS:PUBLIC
CREATED:20260213T215353Z
DESCRIPTION:SLOW OK Nuts
LAST-MODIFIED:20260213T215353Z
LOCATION:Winterfold
SEQUENCE:0
STATUS:CONFIRMED
SUMMARY:SLOW OK Nuts
TRANSP:TRANSPARENT
URL:https://slow.org.uk/events/ok-nuts-2026/
END:VEVENT
BEGIN:VEVENT
DTSTART;TZID=Europe/London;VALUE=DATE:20260512
DTEND;TZID=Europe/London;VALUE=DATE:20260512
DTSTAMP;TZID=Europe/London:20260407T225955Z
UID:20260512Street-O
CLASS:PUBLIC
CREATED:20260407T225955Z
DESCRIPTION:SLOW Street-O
LAST-MODIFIED:20260407T225955Z
LOCATION:Finsbury Park
SEQUENCE:0
STATUS:CONFIRMED
SUMMARY:SLOW Street-O
TRANSP:TRANSPARENT
URL:https://slow.org.uk/streeto/finsbury-park-street-o-25/
END:VEVENT
BEGIN:VEVENT
DTSTART;TZID=Europe/London;VALUE=DATE:20260517
DTEND;TZID=Europe/London;VALUE=DATE:20260517
DTSTAMP;TZID=Europe/London:20250910T223750Z
UID:20260517Wimbledon Training
CLASS:PUBLIC
CREATED:20250910T223750Z
DESCRIPTION:SLOW Wimbledon Training
LAST-MODIFIED:20250910T223750Z
LOCATION:Wimbledon windmill car park
SEQUENCE:0
STATUS:CONFIRMED
SUMMARY:SLOW Wimbledon Training
TRANSP:TRANSPARENT
URL:https://slow.org.uk/coaching/wimbledon-training-season-2025/
END:VEVENT
BEGIN:VEVENT
DTSTART;TZID=Europe/London;VALUE=DATE:20260519
DTEND;TZID=Europe/London;VALUE=DATE:20260519
DTSTAMP;TZID=Europe/London:00000000T000000Z
UID:20260519Park Race
CLASS:PUBLIC
CREATED:00000000T000000Z
DESCRIPTION:SLOW Park Race
LAST-MODIFIED:00000000T000000Z
LOCATION:Finsbury Park
SEQUENCE:0
STATUS:CONFIRMED
SUMMARY:SLOW Park Race
TRANSP:TRANSPARENT
URL:https://slow.org.uk
END:VEVENT
BEGIN:VEVENT
DTSTART;TZID=Europe/London;VALUE=DATE:20260526
DTEND;TZID=Europe/London;VALUE=DATE:20260526
DTSTAMP;TZID=Europe/London:00000000T000000Z
UID:20260526Park Race
CLASS:PUBLIC
CREATED:00000000T000000Z
DESCRIPTION:SLOW Park Race
LAST-MODIFIED:00000000T000000Z
LOCATION:TBC
SEQUENCE:0
STATUS:CONFIRMED
SUMMARY:SLOW Park Race
TRANSP:TRANSPARENT
URL:https://slow.org.uk
END:VEVENT
BEGIN:VEVENT
DTSTART;TZID=Europe/London;VALUE=DATE:20260531
DTEND;TZID=Europe/London;VALUE=DATE:20260531
DTSTAMP;TZID=Europe/London:20260211T110815Z
UID:20260531Mountain Bikes - St Leonards
CLASS:PUBLIC
CREATED:20260211T110815Z
DESCRIPTION:SLOW Mountain Bikes - St Leonards
LAST-MODIFIED:20260211T110815Z
LOCATION:Chilterns
SEQUENCE:0
STATUS:CONFIRMED
SUMMARY:SLOW Mountain Bikes - St Leonards
TRANSP:TRANSPARENT
URL:https://slow.org.uk/events/slow-mbo-event-calendar-2026/
END:VEVENT
BEGIN:VEVENT
DTSTART;TZID=Europe/London;VALUE=DATE:20260602
DTEND;TZID=Europe/London;VALUE=DATE:20260602
DTSTAMP;TZID=Europe/London:00000000T000000Z
UID:20260602Park Race
CLASS:PUBLIC
CREATED:00000000T000000Z
DESCRIPTION:SLOW Park Race
LAST-MODIFIED:00000000T000000Z
LOCATION:Nonsuch Park
SEQUENCE:0
STATUS:CONFIRMED
SUMMARY:SLOW Park Race
TRANSP:TRANSPARENT
URL:https://slow.org.uk
END:VEVENT
BEGIN:VEVENT
DTSTART;TZID=Europe/London;VALUE=DATE:20260607
DTEND;TZID=Europe/London;VALUE=DATE:20260607
DTSTAMP;TZID=Europe/London:20250910T223756Z
UID:20260607Wimbledon Training
CLASS:PUBLIC
CREATED:20250910T223756Z
DESCRIPTION:SLOW Wimbledon Training
LAST-MODIFIED:20250910T223756Z
LOCATION:Wimbledon windmill car park
SEQUENCE:0
STATUS:CONFIRMED
SUMMARY:SLOW Wimbledon Training
TRANSP:TRANSPARENT
URL:https://slow.org.uk/coaching/wimbledon-training-season-2025/
END:VEVENT
BEGIN:VEVENT
DTSTART;TZID=Europe/London;VALUE=DATE:20260609
DTEND;TZID=Europe/London;VALUE=DATE:20260609
DTSTAMP;TZID=Europe/London:00000000T000000Z
UID:20260609Park Race
CLASS:PUBLIC
CREATED:00000000T000000Z
DESCRIPTION:SLOW Park Race
LAST-MODIFIED:00000000T000000Z
LOCATION:Peckham Rye
SEQUENCE:0
STATUS:CONFIRMED
SUMMARY:SLOW Park Race
TRANSP:TRANSPARENT
URL:https://slow.org.uk
END:VEVENT
BEGIN:VEVENT
DTSTART;TZID=Europe/London;VALUE=DATE:20260614
DTEND;TZID=Europe/London;VALUE=DATE:20260614
DTSTAMP;TZID=Europe/London:00000000T000000Z
UID:20260614Urban
CLASS:PUBLIC
CREATED:00000000T000000Z
DESCRIPTION:SLOW Urban
LAST-MODIFIED:00000000T000000Z
LOCATION:Kingston
SEQUENCE:0
STATUS:CONFIRMED
SUMMARY:SLOW Urban
TRANSP:TRANSPARENT
URL:https://slow.org.uk
END:VEVENT
BEGIN:VEVENT
DTSTART;TZID=Europe/London;VALUE=DATE:20260616
DTEND;TZID=Europe/London;VALUE=DATE:20260616
DTSTAMP;TZID=Europe/London:00000000T000000Z
UID:20260616Park Race
CLASS:PUBLIC
CREATED:00000000T000000Z
DESCRIPTION:SLOW Park Race
LAST-MODIFIED:00000000T000000Z
LOCATION:Wanstead Flats
SEQUENCE:0
STATUS:CONFIRMED
SUMMARY:SLOW Park Race
TRANSP:TRANSPARENT
URL:https://slow.org.uk
END:VEVENT
BEGIN:VEVENT
DTSTART;TZID=Europe/London;VALUE=DATE:20260623
DTEND;TZID=Europe/London;VALUE=DATE:20260623
DTSTAMP;TZID=Europe/London:00000000T000000Z
UID:20260623Park Race
CLASS:PUBLIC
CREATED:00000000T000000Z
DESCRIPTION:SLOW Park Race
LAST-MODIFIED:00000000T000000Z
LOCATION:Waterloo Parks
SEQUENCE:0
STATUS:CONFIRMED
SUMMARY:SLOW Park Race
TRANSP:TRANSPARENT
URL:https://slow.org.uk
END:VEVENT
BEGIN:VEVENT
DTSTART;TZID=Europe/London;VALUE=DATE:20260630
DTEND;TZID=Europe/London;VALUE=DATE:20260630
DTSTAMP;TZID=Europe/London:00000000T000000Z
UID:20260630Park Race
CLASS:PUBLIC
CREATED:00000000T000000Z
DESCRIPTION:SLOW Park Race
LAST-MODIFIED:00000000T000000Z
LOCATION:Gladstone Park
SEQUENCE:0
STATUS:CONFIRMED
SUMMARY:SLOW Park Race
TRANSP:TRANSPARENT
URL:https://slow.org.uk
END:VEVENT
BEGIN:VEVENT
DTSTART;TZID=Europe/London;VALUE=DATE:20260707
DTEND;TZID=Europe/London;VALUE=DATE:20260707
DTSTAMP;TZID=Europe/London:00000000T000000Z
UID:20260707Park Race
CLASS:PUBLIC
CREATED:00000000T000000Z
DESCRIPTION:SLOW Park Race
LAST-MODIFIED:00000000T000000Z
LOCATION:Streatham Common
SEQUENCE:0
STATUS:CONFIRMED
SUMMARY:SLOW Park Race
TRANSP:TRANSPARENT
URL:https://slow.org.uk
END:VEVENT
BEGIN:VEVENT
DTSTART;TZID=Europe/London;VALUE=DATE:20260714
DTEND;TZID=Europe/London;VALUE=DATE:20260714
DTSTAMP;TZID=Europe/London:00000000T000000Z
UID:20260714Park Race
CLASS:PUBLIC
CREATED:00000000T000000Z
DESCRIPTION:SLOW Park Race
LAST-MODIFIED:00000000T000000Z
LOCATION:Millfields Park
SEQUENCE:0
STATUS:CONFIRMED
SUMMARY:SLOW Park Race
TRANSP:TRANSPARENT
URL:https://slow.org.uk
END:VEVENT
BEGIN:VEVENT
DTSTART;TZID=Europe/London;VALUE=DATE:20260719
DTEND;TZID=Europe/London;VALUE=DATE:20260719
DTSTAMP;TZID=Europe/London:00000000T000000Z
UID:20260719Mountain Bikes
CLASS:PUBLIC
CREATED:00000000T000000Z
DESCRIPTION:SLOW Mountain Bikes
LAST-MODIFIED:00000000T000000Z
LOCATION:South Downs
SEQUENCE:0
STATUS:CONFIRMED
SUMMARY:SLOW Mountain Bikes
TRANSP:TRANSPARENT
URL:https://slow.org.uk/events/slow-mbo-event-calendar-2026/
END:VEVENT
BEGIN:VEVENT
DTSTART;TZID=Europe/London;VALUE=DATE:20260721
DTEND;TZID=Europe/London;VALUE=DATE:20260721
DTSTAMP;TZID=Europe/London:00000000T000000Z
UID:20260721Park Race
CLASS:PUBLIC
CREATED:00000000T000000Z
DESCRIPTION:SLOW Park Race
LAST-MODIFIED:00000000T000000Z
LOCATION:Tooting Bec Common
SEQUENCE:0
STATUS:CONFIRMED
SUMMARY:SLOW Park Race
TRANSP:TRANSPARENT
URL:https://slow.org.uk
END:VEVENT
BEGIN:VEVENT
DTSTART;TZID=Europe/London;VALUE=DATE:20260823
DTEND;TZID=Europe/London;VALUE=DATE:20260823
DTSTAMP;TZID=Europe/London:00000000T000000Z
UID:20260823Mountain Bikes - Holden Farm
CLASS:PUBLIC
CREATED:00000000T000000Z
DESCRIPTION:SLOW Mountain Bikes - Holden Farm
LAST-MODIFIED:00000000T000000Z
LOCATION:Hampshire
SEQUENCE:0
STATUS:CONFIRMED
SUMMARY:SLOW Mountain Bikes - Holden Farm
TRANSP:TRANSPARENT
URL:https://slow.org.uk/events/slow-mbo-event-calendar-2026/
END:VEVENT
BEGIN:VEVENT
DTSTART;TZID=Europe/London;VALUE=DATE:20260830
DTEND;TZID=Europe/London;VALUE=DATE:20260830
DTSTAMP;TZID=Europe/London:20260323T080535Z
UID:20260830
CLASS:PUBLIC
CREATED:20260323T080535Z
DESCRIPTION:SLOW 
LAST-MODIFIED:20260323T080535Z
LOCATION:
SEQUENCE:0
STATUS:CONFIRMED
SUMMARY:SLOW 
TRANSP:TRANSPARENT
URL:https://slow.org.uk
END:VEVENT
BEGIN:VEVENT
DTSTART;TZID=Europe/London;VALUE=DATE:20260919
DTEND;TZID=Europe/London;VALUE=DATE:20260919
DTSTAMP;TZID=Europe/London:00000000T000000Z
UID:20260919London City Race
CLASS:PUBLIC
CREATED:00000000T000000Z
DESCRIPTION:SLOW London City Race
LAST-MODIFIED:00000000T000000Z
LOCATION:Wapping (tbc)
SEQUENCE:0
STATUS:CONFIRMED
SUMMARY:SLOW London City Race
TRANSP:TRANSPARENT
URL:https://slow.org.uk
END:VEVENT
BEGIN:VEVENT
DTSTART;TZID=Europe/London;VALUE=DATE:20261011
DTEND;TZID=Europe/London;VALUE=DATE:20261011
DTSTAMP;TZID=Europe/London:00000000T000000Z
UID:20261011Mountain Bikes
CLASS:PUBLIC
CREATED:00000000T000000Z
DESCRIPTION:SLOW Mountain Bikes
LAST-MODIFIED:00000000T000000Z
LOCATION:Surrey
SEQUENCE:0
STATUS:CONFIRMED
SUMMARY:SLOW Mountain Bikes
TRANSP:TRANSPARENT
URL:https://slow.org.uk/events/slow-mbo-event-calendar-2026/
END:VEVENT
BEGIN:VEVENT
DTSTART;TZID=Europe/London;VALUE=DATE:20261108
DTEND;TZID=Europe/London;VALUE=DATE:20261108
DTSTAMP;TZID=Europe/London:00000000T000000Z
UID:20261108Mountain Bikes
CLASS:PUBLIC
CREATED:00000000T000000Z
DESCRIPTION:SLOW Mountain Bikes
LAST-MODIFIED:00000000T000000Z
LOCATION:Surrey Hills
SEQUENCE:0
STATUS:CONFIRMED
SUMMARY:SLOW Mountain Bikes
TRANSP:TRANSPARENT
URL:https://slow.org.uk/events/slow-mbo-event-calendar-2026/
END:VEVENT
BEGIN:VEVENT
DTSTART;TZID=Europe/London;VALUE=DATE:20270110
DTEND;TZID=Europe/London;VALUE=DATE:20270110
DTSTAMP;TZID=Europe/London:00000000T000000Z
UID:20270110SLOW forest event
CLASS:PUBLIC
CREATED:00000000T000000Z
DESCRIPTION:SLOW SLOW forest event
LAST-MODIFIED:00000000T000000Z
LOCATION:Belmont school
SEQUENCE:0
STATUS:CONFIRMED
SUMMARY:SLOW SLOW forest event
TRANSP:TRANSPARENT
URL:https://slow.org.uk
END:VEVENT
BEGIN:VEVENT
DTSTART;TZID=Europe/London;VALUE=DATE:20270425
DTEND;TZID=Europe/London;VALUE=DATE:20270425
DTSTAMP;TZID=Europe/London:00000000T000000Z
UID:20270425OK Nuts
CLASS:PUBLIC
CREATED:00000000T000000Z
DESCRIPTION:SLOW OK Nuts
LAST-MODIFIED:00000000T000000Z
LOCATION:Leith Hill Place and Pastures Wood
SEQUENCE:0
STATUS:CONFIRMED
SUMMARY:SLOW OK Nuts
TRANSP:TRANSPARENT
URL:https://slow.org.uk
END:VEVENT
BEGIN:VEVENT
DTSTART;TZID=Europe/London;VALUE=DATE:20270904
DTEND;TZID=Europe/London;VALUE=DATE:20270904
DTSTAMP;TZID=Europe/London:00000000T000000Z
UID:20270904London City Race
CLASS:PUBLIC
CREATED:00000000T000000Z
DESCRIPTION:SLOW London City Race
LAST-MODIFIED:00000000T000000Z
LOCATION:tbc
SEQUENCE:0
STATUS:CONFIRMED
SUMMARY:SLOW London City Race
TRANSP:TRANSPARENT
URL:https://slow.org.uk
END:VEVENT
END:VCALENDAR
